BEGIN:VCALENDAR
VERSION:2.0
PRODID:-//wp-events-plugin.com//7.2.3.1//EN
TZID:America/New_York
X-WR-TIMEZONE:America/New_York
BEGIN:VEVENT
UID:40@mercyhillchurch.church
DTSTART;TZID=America/New_York:20260509T080000
DTEND;TZID=America/New_York:20260509T093000
DTSTAMP:20260321T135955Z
URL:https://mercyhillchurch.church/events/mens-breakfast-2026-04-11-2026-0
 5-09/
SUMMARY:Men's Breakfast
DESCRIPTION:Iron Sharpens Iron: The Mercy Hill Monthly Men’s Breakfast\nT
 here’s something powerful about a group of men gathering around a table 
 before the world gets too loud.\nOur Monthly Men’s Breakfast is a call t
 o step away from the grind and settle in for some high-quality fuel—both
  for the body and the spirit. Whether you’re looking for a solid meal\, 
 a bit of perspective\, or just a few hours of honest brotherhood\, this is
  your place to gear up for the month ahead.\n\n\n\n\nThe Game Plan\nWe kee
 p things straightforward and high-impact. When you show up\, you can count
  on:\n\n\n 	\nAuthentic Brotherhood: No pretenses here. Just a room full o
 f men sharing a laugh\, swapping stories\, and building the kind of friend
 ships that actually hold up when life gets heavy.\n\n 	\nSolid Grounding: 
 Every breakfast features a focused Bible Study. We dive into the Word to f
 ind practical\, "boots-on-the-ground" truth that helps us lead\, serve\, a
 nd live with integrity.\n\n 	\nA Real Time Out: Between work\, family\, an
 d the endless to-do list\, every man needs a reset. This is your chance to
  trade the stress for some perspective and a little quiet.\n\n 	\nA Legend
 ary Spread: We’re talking a full\, hearty breakfast. Think hot coffee\, 
 sizzling bacon\, eggs\, and all the fixings—the kind of meal that actual
 ly sticks with you.\n\n\nBuild Something Better\nWe believe that men were 
 never meant to carry the weight of life in isolation. The Men’s Breakfas
 t is where we sharpen one another\, find our footing in the Gospel\, and r
 emind ourselves what we’re fighting for.\nThe coffee’s hot\, the food
 ’s ready\, and the door is open. We’ll see you there.
ATTACH;FMTTYPE=image/jpeg:https://mercyhillchurch.church/wp-content/upload
 s/2026/03/MONTHLY-MENS-BREAKFAST-FEATURED-IMAGE.001-e1774101439761.png
CATEGORIES:MEN'S EVENTS,OUTREACH EVENTS
LOCATION:Mercy Hill Church\, 750 Pine Street\, Manchester\, NH\, 03104\, Un
 ited States
X-APPLE-STRUCTURED-LOCATION;VALUE=URI;X-ADDRESS=750 Pine Street\, Mancheste
 r\, NH\, 03104\, United States;X-APPLE-RADIUS=100;X-TITLE=Mercy Hill Churc
 h:geo:0,0
END:VEVENT
BEGIN:VTIMEZONE
TZID:America/New_York
X-LIC-LOCATION:America/New_York
BEGIN:DAYLIGHT
DTSTART:20260308T030000
TZOFFSETFROM:-0500
TZOFFSETTO:-0400
TZNAME:EDT
END:DAYLIGHT
END:VTIMEZONE
END:VCALENDAR