BEGIN:VCALENDAR
VERSION:2.0
PRODID:-//wp-events-plugin.com//7.2.3.1//EN
TZID:America/New_York
X-WR-TIMEZONE:America/New_York
BEGIN:VEVENT
UID:33@mercyhillchurch.church
DTSTART;TZID=America/New_York:20260815T090000
DTEND;TZID=America/New_York:20260815T103000
DTSTAMP:20260321T133806Z
URL:https://mercyhillchurch.church/events/womens-tea-2026-04-18-2026-05-16
 -2026-06-20-2026-07-18-2026-08-15/
SUMMARY:Women's Tea
DESCRIPTION:A Seat at the Table: The Mercy Hill Monthly Women’s Tea\nSome
 times\, the best way to refuel is to simply slow down.\nOur Monthly Women
 ’s Tea is more than just a gathering\; it’s a dedicated breathing spac
 e designed for women of all ages and stages of life. In the midst of busy 
 schedules\, family demands\, and the noise of the everyday\, we invite you
  to pull up a chair\, pour a cup\, and reconnect with what matters most.\n
 \n\n\n\nWhat to Expect\nEvery month\, we transform our space into a haven 
 of warmth and intentionality. When you join us\, you’ll find:\n\n\n 	\nG
 enuine Fellowship: Connect with old friends and meet new sisters in a rela
 xed\, welcoming environment. Whether you’re a long-time member or visiti
 ng for the first time\, there is a place for you here.\n\n\n 	\nDeep Conve
 rsation: We move beyond the surface. Enjoy meaningful dialogue that encour
 ages your heart and reminds you that you aren’t walking this journey alo
 ne.\n\n 	\nNourishment for the Soul: Each tea features a focused Bible Stu
 dy session. Together\, we dive into the Word\, seeking wisdom and grace to
  apply to our daily lives.\n\n 	\nFantastic Refreshments: It wouldn't be a
  tea without the treats! Enjoy a curated selection of premium teas and a d
 elicious spread of sweet and savory refreshments prepared with love.\n\n\n
 Your Monthly "Time Out"\nWe believe that spiritual growth happens best in 
 community. The Women’s Tea is your monthly "time out" from the rush of l
 ife—a chance to be poured into so that you can go back out and pour into
  others.\nCome as you are. We’ll have the kettle on.\nQuestions about th
 e Women's Tea? Email Abi Weeks: Hadassah.Abi@gmail.com
ATTACH;FMTTYPE=image/jpeg:https://mercyhillchurch.church/wp-content/upload
 s/2026/02/WOMENS-TEA-WEBSITE-EVENTS-IMAGE.001.png
CATEGORIES:OUTREACH EVENTS,WOMEN'S EVENTS
LOCATION:Mercy Hill Church\, 750 Pine Street\, Manchester\, NH\, 03104\, Un
 ited States
X-APPLE-STRUCTURED-LOCATION;VALUE=URI;X-ADDRESS=750 Pine Street\, Mancheste
 r\, NH\, 03104\, United States;X-APPLE-RADIUS=100;X-TITLE=Mercy Hill Churc
 h:geo:0,0
END:VEVENT
BEGIN:VTIMEZONE
TZID:America/New_York
X-LIC-LOCATION:America/New_York
BEGIN:DAYLIGHT
DTSTART:20260308T030000
TZOFFSETFROM:-0500
TZOFFSETTO:-0400
TZNAME:EDT
END:DAYLIGHT
END:VTIMEZONE
END:VCALENDAR